BEGIN:VCALENDAR
VERSION:2.0
PRODID:-//eventon.com NONSGML v1.0//EN
CALSCALE:GREGORIAN
METHOD:PUBLISH
BEGIN:VEVENT
UID:69eba8a1189c2
DTSTAMP:20260424T173009Z
DTSTART:20221215T183000Z
DTEND:20221215T223000Z
LOCATION:The Westin Palace Piazza della Repubblica\,  20 - Milan
SUMMARY:BCCI Christmas Gala Dinner 2022
DESCRIPTION:We would be pleased to welcome you to our annual Christmas Gala
  Dinner. The Gala will be held on December 15th at 7:30 pm at The Westin Pa
 lace\,  Milan\,  and we would be delighted if you could attend. This event 
 will be filled with the values\,  spirit\,  and tradition of[..]\nhttps://b
 ritishchamber.it/events/bcci-christmas-gala-dinner-2022/
URL:https://britishchamber.it/events/bcci-christmas-gala-dinner-2022/
END:VEVENT
END:VCALENDAR