BEGIN:VCALENDAR
VERSION:2.0
PRODID:-//eventon.com NONSGML v1.0//EN
CALSCALE:GREGORIAN
METHOD:PUBLISH
BEGIN:VEVENT
UID:69e905c816e76
DTSTAMP:20260422T173048Z
DTSTART:20220428T080000Z
DTEND:20220428T103000Z
LOCATION:
SUMMARY:IL COMMERCIO CON IL REGNO UNITO UN ANNO DOPO BREXIT - ASPETTI DOGANALI\,  FISCALI E LEGALI | Napoli
DESCRIPTION:IL COMMERCIO CON IL REGNO UNITO UN ANNO DOPO BREXIT &#8211; ASP
 ETTI DOGANALI\,  FISCALI E LEGALI 28 APRILE 2022 ore 10:00 Palazzo Ischitel
 la Riviera di Chiaia 270 – NAPOLI L’incontro\,  organizzato dalla Camer
 a di Commercio Britannica per l’Italia\,  ha lo scopo di discutere lo sta
 to dell’arte\,  le esperienze vissute e[..]\nhttps://britishchamber.it/ev
 ents/il-commercio-con-il-regno-unito-un-anno-dopo-brexit-aspetti-doganali-f
 iscali-e-legali-napoli/
URL:https://britishchamber.it/events/il-commercio-con-il-regno-unito-un-anno-dopo-brexit-aspetti-doganali-fiscali-e-legali-napoli/
END:VEVENT
END:VCALENDAR