BEGIN:VCALENDAR
VERSION:2.0
PRODID:-//eventon.com NONSGML v1.0//EN
CALSCALE:GREGORIAN
METHOD:PUBLISH
BEGIN:VEVENT
UID:69eb908140af9
DTSTAMP:20260424T154713Z
DTSTART:20230628T090000Z
DTEND:20230628T100000Z
LOCATION:ZOOM platform
SUMMARY:BCCI Annual General Meeting 2023
DESCRIPTION:Dear Members\,  We would like to invite you to the 108th Annual
  General Meeting (AGM) of The British Chamber of Commerce for Italy on Wedn
 esday\,  28th June 2023 at 11:00AM CET on ZOOM. After registering\,  you wi
 ll receive a confirmation email containing information about joining the AG
 M meeting. PLEASE NOTE:[..]\nhttps://britishchamber.it/events/bcci-annual-g
 eneral-meeting-2023/
URL:https://britishchamber.it/events/bcci-annual-general-meeting-2023/
END:VEVENT
END:VCALENDAR