BEGIN:VCALENDAR
VERSION:2.0
PRODID:-//eventon.com NONSGML v1.0//EN
CALSCALE:GREGORIAN
METHOD:PUBLISH
BEGIN:VEVENT
UID:69eb7ae1d3a3e
DTSTAMP:20260424T141457Z
DTSTART:20230912T170000Z
DTEND:20230912T190000Z
LOCATION:Magna Pars Via Forcella 6 - Milano
SUMMARY:BCCI Welcome back Aperitif 2023
DESCRIPTION:Save the date for our Welcome back Aperitif 2023 on Tuesday\,  
 12th September at the &#8216;Liquidambar&#8217; | Magna Pars Hotel Via Forc
 ella\,  6 &#8211; Milan  (Tortona district) Event supported by Tétris Des
 ign x Build INFO / REGISTRATION Drink &amp; Finger Food: €20 Registration
  required   For further information please do[..]\nhttps://britishchamber.
 it/events/bcci-welcome-back-aperitif-2023/
URL:https://britishchamber.it/events/bcci-welcome-back-aperitif-2023/
END:VEVENT
END:VCALENDAR