BEGIN:VCALENDAR
VERSION:2.0
PRODID:-//eventon.com NONSGML v1.0//EN
CALSCALE:GREGORIAN
METHOD:PUBLISH
BEGIN:VEVENT
UID:69e93952a9b00
DTSTAMP:20260422T211042Z
DTSTART:20231107T133000Z
DTEND:20231107T143000Z
LOCATION:ZOOM platform
SUMMARY:Building Digital Trust: Challenges and opportunities from Antivirus to AI
DESCRIPTION:We  would like to invite you to join our private webinar on Tu
 esday\,  7th November 2023 at 2.30 pm in partnership with the British Chamb
 ers of Commerce and BSI\,  which will cover key aspects of Digital Trust an
 d discuss the importance of best practices when preparing for AI integratio
 n. DISTINGUISHED[..]\nhttps://britishchamber.it/events/building-digital-tru
 st-challenges-and-opportunities-from-antivirus-to-ai/
URL:https://britishchamber.it/events/building-digital-trust-challenges-and-opportunities-from-antivirus-to-ai/
END:VEVENT
END:VCALENDAR