BEGIN:VCALENDAR
VERSION:2.0
PRODID:-//eventon.com NONSGML v1.0//EN
CALSCALE:GREGORIAN
METHOD:PUBLISH
BEGIN:VEVENT
UID:69e939bf160e4
DTSTAMP:20260422T211231Z
DTSTART:20240122T180000Z
DTEND:20240122T200000Z
LOCATION:Rosa Grand Milano - Starhotels Collezione Piazza Fontana\,  3 - Milan
SUMMARY:2024 | Welcome back Networking Aperitif
DESCRIPTION:Happy New Year and we hope that you had a lovely Christmas brea
 k. We would like to invite you to join us for our Welcome back Networking A
 peritif on Monday\,  22nd January at the Rosa Grand Milano &#8211; Starhote
 ls Collezione in Piazza Fontana\,  3 Milano. We are pleased to announce[..]
 \nhttps://britishchamber.it/events/2024-welcome-back-networking-aperitif/
URL:https://britishchamber.it/events/2024-welcome-back-networking-aperitif/
END:VEVENT
END:VCALENDAR