BEGIN:VCALENDAR
VERSION:2.0
PRODID:-//eventon.com NONSGML v1.0//EN
CALSCALE:GREGORIAN
METHOD:PUBLISH
BEGIN:VEVENT
UID:69e8230c5ad1b
DTSTAMP:20260422T012324Z
DTSTART:20240305T093000Z
DTEND:20240305T110000Z
LOCATION:
SUMMARY:CDP Business Matching | Italy meets UK
DESCRIPTION:Join the launch event of the Business Matching platform in the 
 UK market and discover new opportunities of collaboration for British and I
 talian companies. March 5th\,  2024\,   10:30 (Italian time) The event is 
 organized by Cassa Depositi e Prestiti (CDP)\,  in collaboration with the I
 talian Embassy in London\,  ITA Agency\, [..]\nhttps://britishchamber.it/ev
 ents/cdp-business-matching-italy-meets-uk/
URL:https://britishchamber.it/events/cdp-business-matching-italy-meets-uk/
END:VEVENT
END:VCALENDAR