BEGIN:VCALENDAR
VERSION:2.0
PRODID:-//eventon.com NONSGML v1.0//EN
CALSCALE:GREGORIAN
METHOD:PUBLISH
BEGIN:VEVENT
UID:69e902a71015e
DTSTAMP:20260422T171727Z
DTSTART:20241023T161500Z
DTEND:20241023T213000Z
LOCATION:Chiostri dell&#039;Umanitaria Milano Via San Barnaba\,  48 Milano
SUMMARY:BCCI Gala Dinner 2024 celebrating the 120th Anniversary of the Chamber
DESCRIPTION:🇬🇧 🇮🇹 Celebrating 120 years of assisting\,  encoura
 ging\,  and developing the trade &amp; investment between the UK and Italy 
 &gt; DOWNLOAD PROGRAMME HERE &lt;&lt; &nbsp; WITH THE PATRONAGE OF: &#8211;
  GUEST OF HONOUR: Ed Llewellyn OBE HM Ambassador to Italy &amp; San Marino 
 PLATINUM SPONSORS: GOLD SPONSORS: SILVER SPONSORS: EVENT[..]\nhttps://briti
 shchamber.it/events/bcci-gala-dinner-2024/
URL:https://britishchamber.it/events/bcci-gala-dinner-2024/
END:VEVENT
END:VCALENDAR