BEGIN:VCALENDAR
VERSION:2.0
PRODID:-//eventon.com NONSGML v1.0//EN
CALSCALE:GREGORIAN
METHOD:PUBLISH
BEGIN:VEVENT
UID:69e8b8bdd7b48
DTSTAMP:20260422T120205Z
DTSTART:20250528T070000Z
DTEND:20250528T120000Z
LOCATION:Milano Linate Center - Linate Airport (2nd Floor)
SUMMARY:BCCI Innovation Conference 2025 | AI: Risks vs Rewards
DESCRIPTION:For the third year running we are pleased to host a conference 
 on innovation at Milano Linate Center. &#8220;AI: Risks vs Rewards&#8221; W
 ednesday\,  28th May 2025 | 9:00-13:30 followed by networking lunch &gt; Do
 wnload programme and speakers&#8217; bios (PDF) &lt; The future is destined
  to be filled with even more[..]\nhttps://britishchamber.it/events/bcci-inn
 ovation-conference-2025/
URL:https://britishchamber.it/events/bcci-innovation-conference-2025/
END:VEVENT
END:VCALENDAR