BEGIN:VCALENDAR
VERSION:2.0
PRODID:-//eventon.com NONSGML v1.0//EN
CALSCALE:GREGORIAN
METHOD:PUBLISH
BEGIN:VEVENT
UID:69e79bdfcd927
DTSTAMP:20260421T154639Z
DTSTART:20260623T150000Z
DTEND:20260623T160000Z
LOCATION:ZOOM platform
SUMMARY:2026 | BCCI Annual General Meeting
DESCRIPTION:For organisational reasons\,  we would like to inform you that 
 the meeting has been moved forward to 23 June instead of 25 June. We apolog
 ise for any inconvenience this may cause. For further information\,  please
  call 02 39624182 or email amministrazione@britishchamber.it / marketing@br
 itishchamber.it\nhttps://britishchamber.it/events/2026-bcci-annual-general-
 meeting/
URL:https://britishchamber.it/events/2026-bcci-annual-general-meeting/
END:VEVENT
END:VCALENDAR