BEGIN:VCALENDAR
VERSION:2.0
PRODID:-//eventon.com NONSGML v1.0//EN
CALSCALE:GREGORIAN
METHOD:PUBLISH
BEGIN:VEVENT
UID:69eb2e3c69263
DTSTAMP:20260424T084756Z
DTSTART:20260525T170000Z
DTEND:20260525T213000Z
LOCATION:Hotel Principe di Savoia Piazza Della Repubblica 17 MILANO
SUMMARY:2026 | BCCI Gala Dinner & Business Excellence Awards
DESCRIPTION:GOLD SPONSOR EVENT SUPPORTER INFO / REGISTRATION Cost of ticket
  for BCCI Members: €152. For further information and registration please 
 contact Maria Luisa Fantoni\,  BCCI Marketing &amp; Event Manager: Mob. 377
  7063348  | marialuisa.fantoni@britishchamber.it SPONSORSHIP OPPORTUNITIES
  You can choose from a range of sponsorship opportunities\,  including bran
 ding\,  speaking opportunities\,  and[..]\nhttps://britishchamber.it/events
 /2026-bcci-gala-dinner/
URL:https://britishchamber.it/events/2026-bcci-gala-dinner/
END:VEVENT
END:VCALENDAR