BEGIN:VCALENDAR
VERSION:2.0
PRODID:-//eventon.com NONSGML v1.0//EN
CALSCALE:GREGORIAN
METHOD:PUBLISH
BEGIN:VEVENT
UID:69eb415ddd216
DTSTAMP:20260424T100933Z
DTSTART:20260218T173000Z
DTEND:20260218T193000Z
LOCATION:The Lion and Unicorn Via XX Settembre 80/a 00187 Roma
SUMMARY:2026 | Rome Aperitif
DESCRIPTION:BY INVITATION ONLY For sponsorship opportunities please contact
 : Maria Rosa Allegra\,  BCCI Business Development Manager Mob. 335 1847337 
 – mariarosa.allegra@britishchamber.it For more information please contact
 : John J. Law MBE\,  BCCI Vice President – Rome Mob. 348 2655365 – jla
 w6@me.com Maria Luisa Fantoni\,  BCCI Marketing &amp; Event Manager Mob. 37
 7 7063348 –[..]\nhttps://britishchamber.it/events/2026-rome-aperitif/
URL:https://britishchamber.it/events/2026-rome-aperitif/
END:VEVENT
END:VCALENDAR