BEGIN:VCALENDAR
VERSION:2.0
PRODID:-//eventon.com NONSGML v1.0//EN
CALSCALE:GREGORIAN
METHOD:PUBLISH
BEGIN:VEVENT
UID:69e8cf1891b9e
DTSTAMP:20260422T133728Z
DTSTART:20260212T073000Z
DTEND:20260212T090000Z
LOCATION:Gianni &amp; Origoni Gianni & Origoni\,  Piazza Belgioioso 2 - Milano
SUMMARY:Tax & Legal Breakfast
DESCRIPTION:📢 CALLING ALL LAWYERS\,  ACCOUNTANTS AND TAX ADVISERS 📢 W
 e are delighted to invite you to our monthly Tax &amp; Legal Breakfast\,  w
 hich Gianni &amp; Origoni has very kindly agreed to host. This is our tenth
  informal meeting of Chamber members from the legal and accounting professi
 ons\,  with coffee and[..]\nhttps://britishchamber.it/events/tax-legal-brea
 kfast-2/
URL:https://britishchamber.it/events/tax-legal-breakfast-2/
END:VEVENT
END:VCALENDAR