BEGIN:VCALENDAR
VERSION:2.0
PRODID:-//eventon.com NONSGML v1.0//EN
CALSCALE:GREGORIAN
METHOD:PUBLISH
BEGIN:VEVENT
UID:69e8a2f08e964
DTSTAMP:20260422T102904Z
DTSTART:20260210T143000Z
DTEND:20260210T154500Z
LOCATION:BRUNSWICK Via Solferino 40 Milano
SUMMARY:Strategic Conversation on Cyber Resilience with Mark Seifert
DESCRIPTION:We are pleased to invite our Members to an interactive discussi
 on with Mark Seifert\,  Co-Chair of Brunswick Group’s Global Cybersecurit
 y\,  Data and Privacy Practice. &#8220;CYBER RESILIENCE AT A GEOPOLITICAL C
 ROSSROADS&#8221; Brunswick is a leading reputation management firm with a s
 trong presence in Italy. Based in Washington\,  DC\,  Mark is a[..]\nhttps:
 //britishchamber.it/events/strategic-conversation-on-cyber-resilience-with-
 mark-seifert/
URL:https://britishchamber.it/events/strategic-conversation-on-cyber-resilience-with-mark-seifert/
END:VEVENT
END:VCALENDAR