BEGIN:VCALENDAR
VERSION:2.0
PRODID:-//eventon.com NONSGML v1.0//EN
CALSCALE:GREGORIAN
METHOD:PUBLISH
BEGIN:VEVENT
UID:69e8a2a36dfc5
DTSTAMP:20260422T102747Z
DTSTART:20260217T140000Z
DTEND:20260217T150000Z
LOCATION:BRUNSWICK Via Solferino 40 Milano
SUMMARY:Eventi sostenibili: guida pratica per organizzarli
DESCRIPTION:Programma: 15:00 – Saluti e introduzione 15:10 – Cos’è u
 n evento sostenibile Relatore: Guglielmo Pensabene Approfondimento su come 
 gli eventi possano ridurre rifiuti ed emissioni\,  promuovere l’inclusion
 e sociale e generare valore senza compromettere il futuro. 15:30 – Come s
 i organizza un evento sostenibile Relatrice: Maria Teresa Barreca Focus sul
 lo standard[..]\nhttps://britishchamber.it/events/eventi-sostenibili-guida-
 pratica-per-organizzarli/
URL:https://britishchamber.it/events/eventi-sostenibili-guida-pratica-per-organizzarli/
END:VEVENT
END:VCALENDAR