BEGIN:VCALENDAR
VERSION:2.0
PRODID:-//eventon.com NONSGML v1.0//EN
CALSCALE:GREGORIAN
METHOD:PUBLISH
BEGIN:VEVENT
UID:69ea2808f1a56
DTSTAMP:20260423T140912Z
DTSTART:20260414T101500Z
DTEND:20260414T123000Z
LOCATION:Allegrìo Via Vittorio Veneto\,  114 ROMA
SUMMARY:2026 | BCCI Rome Business Lunch
DESCRIPTION:The British Chamber of Commerce for Italy\,  the Commonwealth C
 lub of Rome and Rotary Club Rome International would like to invite you to 
 a Rome Lunch on Tuesday\,  14th April 2026 from 12.15pm (registration) to 2
 .30pm at Allegrìo in Via Veneto\,  114 Roma. GUEST OF HONOUR On. Alessandr
 o Cattaneo On.[..]\nhttps://britishchamber.it/events/2026-bcci-rome-busines
 s-lunch/
URL:https://britishchamber.it/events/2026-bcci-rome-business-lunch/
END:VEVENT
END:VCALENDAR