BEGIN:VCALENDAR
VERSION:2.0
PRODID:-//eventon.com NONSGML v1.0//EN
CALSCALE:GREGORIAN
METHOD:PUBLISH
BEGIN:VEVENT
UID:69e8b87deb553
DTSTAMP:20260422T120101Z
DTSTART:20260917T083000Z
DTEND:20260917T170000Z
LOCATION:Le Robinie Golf Club &amp; Resort Via per Busto Arsizio\,  9 21058 Solbiate Olona VA
SUMMARY:2026 | BCCI Golf Tournament 2026 | Le Robinie Golf Club & Resort
DESCRIPTION:⛳⛳⛳CALLING ALL GOLFERS ⛳⛳⛳ INFO &amp; REGISTRATION:
  Green fee is € 65 to be paid on the day. Cost of aperitif to be announce
 d. For sponsorship opportunities please contact: Maria Rosa Allegra\,  BCCI
  Business Development Manager Mob. 335 1847337 – mariarosa.allegra@britis
 hchamber.it John J. Law MBE\,  BCCI Vice President – Rome[..]\nhttps://br
 itishchamber.it/events/2026-bcci-golf-tournament-2026-le-robinie-golf-club-
 resort/
URL:https://britishchamber.it/events/2026-bcci-golf-tournament-2026-le-robinie-golf-club-resort/
END:VEVENT
END:VCALENDAR