BEGIN:VCALENDAR
VERSION:2.0
PRODID:-//eventon.com NONSGML v1.0//EN
CALSCALE:GREGORIAN
METHOD:PUBLISH
BEGIN:VEVENT
UID:69e8cec33e6ef
DTSTAMP:20260422T133603Z
DTSTART:20260626
DTEND:20260627
LOCATION:Marsala (TP)
SUMMARY:The British Sicilian Affair 2026
DESCRIPTION:Venerdì 26 Giugno 2026 – Marsala (TP) 9:00-13:30 CONFERENZA 
 &#8220;THE BRITISH SICILIAN AFFAIR&#8221; Partecipazione gratuita. Registra
 zione obbligatoria. Complesso Monumentale San Pietro via Ludovico Anselmi C
 orreale 12 Marsala (TP) Sicilia Investment Hub | Immobiliare\,  ospitalità
 \,  energia e innovazione finanziaria tra diritto\,  incentivi pubblici e r
 uolo delle banche Un dialogo tra Regno[..]\nhttps://britishchamber.it/event
 s/the-british-sicilian-affair-2026/
URL:https://britishchamber.it/events/the-british-sicilian-affair-2026/
END:VEVENT
END:VCALENDAR