BEGIN:VCALENDAR
VERSION:2.0
PRODID:-//eventon.com NONSGML v1.0//EN
CALSCALE:GREGORIAN
METHOD:PUBLISH
BEGIN:VEVENT
UID:69eb656471650
DTSTAMP:20260424T124316Z
DTSTART:20260512T141500Z
DTEND:20260512T193000Z
LOCATION:Pirola Pennuto Zei &amp; Associati Pirola Pennuto Zei & Associati Via Vittor Pisani\,  20 Milano
SUMMARY:Aziende Sostenibili per Competere nei Megatrend Globali
DESCRIPTION:&nbsp; KEYNOTE SPEAKERS Francesco Lagonigro Sustainability &amp
 ; Innovation Manager\,  Green Future Project Group Stefania Meschiari Partn
 er\,  Pirola Pennuto Zei &amp; Associati &nbsp; ROUNDTABLE: CASE STUDIES &a
 mp; BEST PRACTICES Elisa Bottoni Specialista sr. Sviluppo Sostenibile\,  Is
 tituto per il CreditoSportivo e Culturale Federico Catania Head of Governme
 nt Relations Italy\,  Trainline Raffaella Ghizzoni[..]\nhttps://britishcham
 ber.it/events/aziende-sostenibili-per-competere-nei-megatrend-globali/
URL:https://britishchamber.it/events/aziende-sostenibili-per-competere-nei-megatrend-globali/
END:VEVENT
END:VCALENDAR