BEGIN:VCALENDAR
VERSION:2.0
PRODID:-//eventon.com NONSGML v1.0//EN
CALSCALE:GREGORIAN
METHOD:PUBLISH
BEGIN:VEVENT
UID:69e8a2b9da8b0
DTSTAMP:20260422T102809Z
DTSTART:20260428T163000Z
DTEND:20260428T203000Z
LOCATION:Rangoli Via Solferino 36\,  20121 Milano\,  Italy
SUMMARY:2026 | BCCI & ICCI Networking evening
DESCRIPTION:&nbsp; The British Chamber of Commerce for Italy &amp; the Indi
 an Chamber of Commerce for Italy cordially invite you to a BCCI &amp; ICCI 
 Networking Evening on Tuesday\,  28th April 2026 from 6:30 pm to 10:30 pm a
 t Rangoli Indian Restaurant\,  Via Solferino 36\,  Milan. The event will be
  an[..]\nhttps://britishchamber.it/events/bcci-icci-networking-evening/
URL:https://britishchamber.it/events/bcci-icci-networking-evening/
END:VEVENT
END:VCALENDAR