BEGIN:VCALENDAR
VERSION:2.0
PRODID:-//eventon.com NONSGML v1.0//EN
CALSCALE:GREGORIAN
METHOD:PUBLISH
BEGIN:VEVENT
UID:69eb2c4cc9c49
DTSTAMP:20260424T083940Z
DTSTART:20260612
DTEND:20260613
LOCATION:Menaggio &amp; Cadenabbia Golf Club Via A. Wyatt\,  54\,  22017 Menaggio CO
SUMMARY:2026 | BCCI Annual Golf Day 2026 | Menaggio & Cadenabbia Golf Club
DESCRIPTION:STARTING TIME around 9AM PUTTING CONTEST APERITIF &amp; LUNCH f
 rom around 2:30 PM Green fee: €70 &#8212;&#8212;&#8212;&#8212;&#8212;&#82
 12;&#8212;&#8212;&#8212;&#8212;&#8212;&#8212;&#8212;&#8212;&#8212;&#8212;&#
 8212;&#8212;&#8212;&#8212;&#8212;&#8212;&#8212;&#8212;&#8212;&#8212;&#8212;
 &#8212;&#8212;&#8212;&#8212;&#8212;&#8212;&#8212;&#8212;&#8212;&#8212;&#821
 2;&#8212;&#8212;&#8212;&#8212;&#8212;&#8212;&#8212;&#8212;&#8212;&#8211; Fo
 r sponsorship opportunities please contact: Maria Rosa Allegra\,  BCCI Busi
 ness Development Manager Mob. 335 1847337 – mariarosa.allegra@britishcham
 ber.it John J. Law MBE\,  BCCI Vice President – Rome Mob. 348 2655365 –
  jlaw6@me.com For further[..]\nhttps://britishchamber.it/events/2026-bcci-a
 nnual-golf-day-2026-menaggio-cadenabbia-golf-club/
URL:https://britishchamber.it/events/2026-bcci-annual-golf-day-2026-menaggio-cadenabbia-golf-club/
END:VEVENT
END:VCALENDAR