BEGIN:VCALENDAR
VERSION:2.0
PRODID:-//eventon.com NONSGML v1.0//EN
CALSCALE:GREGORIAN
METHOD:PUBLISH
BEGIN:VEVENT
UID:69ea2915591be
DTSTAMP:20260423T141341Z
DTSTART:20260427T170000Z
DTEND:20260427T183000Z
LOCATION:Villa Igiea Via Belmonte 43 - Palermo
SUMMARY:GRANDI PATRIMONI VALORE CRESCITA PROTEZIONE E CONTINUITÀ
DESCRIPTION:GRANDI PATRIMONI VALORE CRESCITA PROTEZIONE E CONTINUITÀ\nhttp
 s://britishchamber.it/events/grandi-patrimoni-valore-crescita-protezione-e-
 continuita/
URL:https://britishchamber.it/events/grandi-patrimoni-valore-crescita-protezione-e-continuita/
END:VEVENT
END:VCALENDAR