BEGIN:VCALENDAR
VERSION:2.0
PRODID:-//eventon.com NONSGML v1.0//EN
CALSCALE:GREGORIAN
METHOD:PUBLISH
BEGIN:VEVENT
UID:69e8b80e1625c
DTSTAMP:20260422T115910Z
DTSTART:20260514T063000Z
DTEND:20260514T080000Z
LOCATION:LDP Tax &amp; Legal Via M. Buonarroti\,  39 Milano
SUMMARY:Tax & Legal Breakfast
DESCRIPTION:📢 CALLING ALL LAWYERS 📢 We are delighted to invite you to
  a Tax &amp; Legal Breakfast\,  which LDP Tax &amp; Legal has very kindly a
 greed to host. This is our twelfth informal meeting of Chamber members from
  the legal profession\,  with coffee and croissants provided. Designed to f
 ollow up[..]\nhttps://britishchamber.it/events/tax-legal-breakfast-14-05-26
 /
URL:https://britishchamber.it/events/tax-legal-breakfast-14-05-26/
END:VEVENT
END:VCALENDAR